BEGIN:VCALENDAR
VERSION:2.0
PRODID:-//Ana Isoux Mezzo - ECPv6.8.2//NONSGML v1.0//EN
CALSCALE:GREGORIAN
METHOD:PUBLISH
X-ORIGINAL-URL:https://ana-isoux.fr
X-WR-CALDESC:Évènements pour Ana Isoux Mezzo
REFRESH-INTERVAL;VALUE=DURATION:PT1H
X-Robots-Tag:noindex
X-PUBLISHED-TTL:PT1H
BEGIN:VTIMEZONE
TZID:Europe/Paris
BEGIN:DAYLIGHT
TZOFFSETFROM:+0100
TZOFFSETTO:+0200
TZNAME:CEST
DTSTART:20240331T010000
END:DAYLIGHT
BEGIN:STANDARD
TZOFFSETFROM:+0200
TZOFFSETTO:+0100
TZNAME:CET
DTSTART:20241027T010000
END:STANDARD
BEGIN:DAYLIGHT
TZOFFSETFROM:+0100
TZOFFSETTO:+0200
TZNAME:CEST
DTSTART:20250330T010000
END:DAYLIGHT
BEGIN:STANDARD
TZOFFSETFROM:+0200
TZOFFSETTO:+0100
TZNAME:CET
DTSTART:20251026T010000
END:STANDARD
END:VTIMEZONE
BEGIN:VEVENT
DTSTART;TZID=Europe/Paris:20251113T190000
DTEND;TZID=Europe/Paris:20251113T203000
DTSTAMP:20260426T045216
CREATED:20250208T153725Z
LAST-MODIFIED:20250208T153725Z
UID:761-1763060400-1763065800@ana-isoux.fr
SUMMARY:La chapelle du Hainaut - concert
DESCRIPTION:Avec les instrumentistes de l’Académie Sainte Cécile (Philippe Couvert).
URL:https://ana-isoux.fr/event/la-chapelle-du-hainaut-concert-4/
LOCATION:Strasbourg\, France
END:VEVENT
BEGIN:VEVENT
DTSTART;VALUE=DATE:20250927
DTEND;VALUE=DATE:20250928
DTSTAMP:20260426T045216
CREATED:20250208T154037Z
LAST-MODIFIED:20250208T154037Z
UID:765-1758931200-1759017599@ana-isoux.fr
SUMMARY:La chapelle du Hainaut - Enregistrement
DESCRIPTION:Avec les instrumentistes de l’Académie Sainte Cécile (Philippe Couvert)
URL:https://ana-isoux.fr/event/la-chapelle-du-hainaut-enregistrement/
LOCATION:Abbaye de Royaumont\, Asnières/Oise\, 95270\, France
END:VEVENT
BEGIN:VEVENT
DTSTART;TZID=Europe/Paris:20250703T193000
DTEND;TZID=Europe/Paris:20250703T210000
DTSTAMP:20260426T045216
CREATED:20250208T153544Z
LAST-MODIFIED:20250208T153544Z
UID:757-1751571000-1751576400@ana-isoux.fr
SUMMARY:Concert La chapelle du Hainaut
DESCRIPTION:Avec les instrumentistes de l’Académie Sainte Cécile (Philippe Couvert).
URL:https://ana-isoux.fr/event/concert-la-chapelle-du-hainaut/
LOCATION:Versailles\, Versailles\, France
END:VEVENT
BEGIN:VEVENT
DTSTART;TZID=Europe/Paris:20250622T170000
DTEND;TZID=Europe/Paris:20250622T170000
DTSTAMP:20260426T045216
CREATED:20250603T162051Z
LAST-MODIFIED:20250603T164412Z
UID:779-1750611600-1750611600@ana-isoux.fr
SUMMARY:Pépita
DESCRIPTION:Pépita\, comédie musicale \nMusique : Xavier-Charles Catta et Luis Eon; \nLivret Nathalie Houssin et Philippe L’anglet; \nMise en scène Agnès Loyer; \nRôle d’Abuelita
URL:https://ana-isoux.fr/event/pepita-2/
LOCATION:Ecole Sante-Ernestine\, 17 grande rue\, Lardy\, 91510\, France
END:VEVENT
BEGIN:VEVENT
DTSTART;TZID=Europe/Paris:20250622T140000
DTEND;TZID=Europe/Paris:20250622T140000
DTSTAMP:20260426T045216
CREATED:20250603T161939Z
LAST-MODIFIED:20250603T164520Z
UID:771-1750600800-1750600800@ana-isoux.fr
SUMMARY:Pépita
DESCRIPTION:Pépita\, comédie musicale \nMusique : Xavier-Charles Catta et Luis Eon; \nLivret Nathalie Houssin et Philippe L’anglet; \nMise en scène Agnès Loyer; \nRôle d’Abuelita
URL:https://ana-isoux.fr/event/pepita/
LOCATION:Ecole Sante-Ernestine\, 17 grande rue\, Lardy\, 91510\, France
END:VEVENT
BEGIN:VEVENT
DTSTART;TZID=Europe/Paris:20250515T193000
DTEND;TZID=Europe/Paris:20250515T210000
DTSTAMP:20260426T045216
CREATED:20250208T153248Z
LAST-MODIFIED:20250208T153248Z
UID:755-1747337400-1747342800@ana-isoux.fr
SUMMARY:La chapelle du Hainaut
DESCRIPTION:Avec les instrumentistes de l’Académie Sainte Cécile (Philippe Couvert)
URL:https://ana-isoux.fr/event/la-chapelle-du-hainaut/
LOCATION:Théâtre\, Arras\, France
END:VEVENT
BEGIN:VEVENT
DTSTART;TZID=Europe/Paris:20250427T160000
DTEND;TZID=Europe/Paris:20250427T170000
DTSTAMP:20260426T045216
CREATED:20250207T082432Z
LAST-MODIFIED:20250207T082432Z
UID:738-1745769600-1745773200@ana-isoux.fr
SUMMARY:La chapelle du Hainaut Concert
DESCRIPTION:Avec l’orchestre de l’Académie Sainte Cécile (Philippe Couvert) \n 
URL:https://ana-isoux.fr/event/la-chapelle-du-hainaut-concert/
LOCATION:eglise saint-martin\, saint-saulve\, France
END:VEVENT
BEGIN:VEVENT
DTSTART;TZID=Europe/Paris:20250404T203000
DTEND;TZID=Europe/Paris:20250404T223000
DTSTAMP:20260426T045216
CREATED:20241120T170343Z
LAST-MODIFIED:20241219T204406Z
UID:319-1743798600-1743805800@ana-isoux.fr
SUMMARY:chansons des années 30 aux années 80
DESCRIPTION:
URL:https://ana-isoux.fr/event/chansons-des-annees-30-aux-annees-80-avril-2025/
LOCATION:Parc des expostions de Tournay\, Rue du Follet 30\, Tournay\, 7540\, Belgium
CATEGORIES:Agenda
END:VEVENT
BEGIN:VEVENT
DTSTART;VALUE=DATE:20250227
DTEND;VALUE=DATE:20250228
DTSTAMP:20260426T045216
CREATED:20241219T204736Z
LAST-MODIFIED:20241219T205111Z
UID:515-1740614400-1740700799@ana-isoux.fr
SUMMARY:Chanson des années 30 aux années 80
DESCRIPTION:
URL:https://ana-isoux.fr/event/chanson-des-annees-30-aux-annees-80-fevrier-2025/
LOCATION:Parc des Expostions de St Gaudens\, N.117 ROUTE DE MONTREJEAU\, St Gaudens\, 31800\, France
CATEGORIES:Agenda
END:VEVENT
BEGIN:VEVENT
DTSTART;TZID=Europe/Paris:20241213T123000
DTEND;TZID=Europe/Paris:20241213T143000
DTSTAMP:20260426T045216
CREATED:20241120T163744Z
LAST-MODIFIED:20241219T205146Z
UID:312-1734093000-1734100200@ana-isoux.fr
SUMMARY:récital baroque (prestation privée)
DESCRIPTION:
URL:https://ana-isoux.fr/event/recital-baroque/
LOCATION:Restaurant la Table des Lumières\, 5 Rue Colbert\, 78000 Versailles\, Versailles\, 78000
CATEGORIES:Agenda
END:VEVENT
BEGIN:VEVENT
DTSTART;TZID=Europe/Paris:20241122T203000
DTEND;TZID=Europe/Paris:20241123T223000
DTSTAMP:20260426T045216
CREATED:20241120T165407Z
LAST-MODIFIED:20241120T165407Z
UID:316-1732307400-1732401000@ana-isoux.fr
SUMMARY:chansons des années 30 aux années 80
DESCRIPTION:
URL:https://ana-isoux.fr/event/chansons-des-annees-30-aux-annees-80/
LOCATION:Ciné Bal Parc des Expositions\, 1 Avenue André Frénaud\, Autun\, 71400\, France
CATEGORIES:Agenda
END:VEVENT
BEGIN:VEVENT
DTSTART;TZID=Europe/Paris:20241017T193000
DTEND;TZID=Europe/Paris:20241017T213000
DTSTAMP:20260426T045216
CREATED:20241120T162532Z
LAST-MODIFIED:20241120T162651Z
UID:309-1729193400-1729200600@ana-isoux.fr
SUMMARY:Requiem Jommelli et Messie de Hanedel
DESCRIPTION:
URL:https://ana-isoux.fr/event/jommelli-hanedel-deauville/
LOCATION:Les Fransiscaines\, 145b Av. de la République\, Deauville\, 14800\, France
CATEGORIES:Agenda
END:VEVENT
BEGIN:VEVENT
DTSTART;TZID=Europe/Paris:20241010T193000
DTEND;TZID=Europe/Paris:20241010T213000
DTSTAMP:20260426T045216
CREATED:20241120T161945Z
LAST-MODIFIED:20241219T205218Z
UID:306-1728588600-1728595800@ana-isoux.fr
SUMMARY:Requiem Jommelli et Messie de Hanedel
DESCRIPTION:
URL:https://ana-isoux.fr/event/jommelli-haendel-st-eustache/
LOCATION:Eglise St Eustache\, 2 Imp. Saint-Eustache\, Paris\, 75001\, France
CATEGORIES:Agenda
END:VEVENT
BEGIN:VEVENT
DTSTART;VALUE=DATE:20240926
DTEND;VALUE=DATE:20240929
DTSTAMP:20260426T045216
CREATED:20241120T161528Z
LAST-MODIFIED:20241120T161528Z
UID:303-1727308800-1727567999@ana-isoux.fr
SUMMARY:Les femmes savantes au Théâtre du Montansier
DESCRIPTION:Après La Princesse d’Élide\, Le Mariage forcé et Le Malade imaginaire\, Comédiens & Compagnie et Molière sont de nouveau réunis avec Les Femmes savantes. Cette comédie drôlissime s’en prend aux sots\, aux pédants et aux hypocrites. Ce superbe texte en alexandrin s’amuse à dévoiler les sottes lourdeurs d’une société patriarcale contre la naïveté de suffragettes intégristes\, la lutte pour le pouvoir… à l’intérieur du cadre familial\, l’ennui profond des salons mondains. Une satire incisive de ceux qui savent ou plutôt qui croient savoir et qui cherchent à imposer leur vision du monde. Toute ressemblance avec notre actualité ne peut être qu’accidentelle…Encore une fois cette comédie est emblématique de notre savoir-faire\, à savoir : présence gestuelle\, improvisations raisonnablement dosées\, musique et chants\, danses et pantomimes avec un respect du texte (le travail sur les alexandrins cherche à trouver la fluidité suffisante pour faire passer le vers avec sa force intrinsèque sans en entraver la justesse\, la vérité. Ce travail esquissé dans La Princesse d’Élide dont le premier acte et le début du deuxième étaient en vers\, trouve ici son aboutissement) qui n’entrave pas la gaieté communicative de la comédie. Un spectacle pour tous\, un spectacle populaire dans le sens noble du terme\, accessible\, ne rimant pas avec pauvreté ou vulgarité mais nous l’espérons\, avec richesse\, pour ne pas dire en l’occurrence\, préciosité et humanité. \nL’ArgumentHenriette qui aime Clitandre se voit contrainte par sa mère\, Philaminte\, d’épouser Trissotin\, un médiocre poète à la mode qui\, tout comme Tartuffe\, essaie de s’introduire dans la maison pour s’enrichir. Le père\, Chrysale\, heureusement accompagné de son frère\, Ariste\, va essayer d’empêcher ce mariage en affrontant les foudres de sa femme\, Philaminte\, de sa soeur Bélise et de son autre fille\, Armande\, trois femmes savantes qui essaient de régenter le monde… de leur maisonnée.Les Femmes savantes veut offrir un moment de spectacle complet : cruel\, tendre\, comique\, musical\, un délicieux projet pour Comédiens & Compagnie qui expérimente depuis 15 ans une certaine idée de la commedia dell’arte\, faite de bouts de ficelles et d’imagination.
URL:https://ana-isoux.fr/event/les-femmes-versailles/
LOCATION:Théâtre du Montansier\, 13 Rue des Réservoirs\, Versailles\, 78000\, France
CATEGORIES:Agenda
ATTACH;FMTTYPE=image/gif:https://ana-isoux.fr/wp-content/uploads/2024/11/b75c81_4ad5a9fd9d0f45fd9ee942f7dea9336amv2.gif
END:VEVENT
BEGIN:VEVENT
DTSTART;VALUE=DATE:20240716
DTEND;VALUE=DATE:20240722
DTSTAMP:20260426T045216
CREATED:20241120T160941Z
LAST-MODIFIED:20241120T160941Z
UID:301-1721088000-1721606399@ana-isoux.fr
SUMMARY:Les femmes savantes au festival Off d'Avignon
DESCRIPTION:Après La Princesse d’Élide\, Le Mariage forcé et Le Malade imaginaire\, Comédiens & Compagnie et Molière sont de nouveau réunis avec Les Femmes savantes. Cette comédie drôlissime s’en prend aux sots\, aux pédants et aux hypocrites. Ce superbe texte en alexandrin s’amuse à dévoiler les sottes lourdeurs d’une société patriarcale contre la naïveté de suffragettes intégristes\, la lutte pour le pouvoir… à l’intérieur du cadre familial\, l’ennui profond des salons mondains. Une satire incisive de ceux qui savent ou plutôt qui croient savoir et qui cherchent à imposer leur vision du monde. Toute ressemblance avec notre actualité ne peut être qu’accidentelle…Encore une fois cette comédie est emblématique de notre savoir-faire\, à savoir : présence gestuelle\, improvisations raisonnablement dosées\, musique et chants\, danses et pantomimes avec un respect du texte (le travail sur les alexandrins cherche à trouver la fluidité suffisante pour faire passer le vers avec sa force intrinsèque sans en entraver la justesse\, la vérité. Ce travail esquissé dans La Princesse d’Élide dont le premier acte et le début du deuxième étaient en vers\, trouve ici son aboutissement) qui n’entrave pas la gaieté communicative de la comédie. Un spectacle pour tous\, un spectacle populaire dans le sens noble du terme\, accessible\, ne rimant pas avec pauvreté ou vulgarité mais nous l’espérons\, avec richesse\, pour ne pas dire en l’occurrence\, préciosité et humanité. \nL’ArgumentHenriette qui aime Clitandre se voit contrainte par sa mère\, Philaminte\, d’épouser Trissotin\, un médiocre poète à la mode qui\, tout comme Tartuffe\, essaie de s’introduire dans la maison pour s’enrichir. Le père\, Chrysale\, heureusement accompagné de son frère\, Ariste\, va essayer d’empêcher ce mariage en affrontant les foudres de sa femme\, Philaminte\, de sa soeur Bélise et de son autre fille\, Armande\, trois femmes savantes qui essaient de régenter le monde… de leur maisonnée.Les Femmes savantes veut offrir un moment de spectacle complet : cruel\, tendre\, comique\, musical\, un délicieux projet pour Comédiens & Compagnie qui expérimente depuis 15 ans une certaine idée de la commedia dell’arte\, faite de bouts de ficelles et d’imagination.
URL:https://ana-isoux.fr/event/les-femmes-savantes-avignon-3/
LOCATION:Espace Alya\, 31bis Rue Guillaume Puy\, Avignon\, 84000\, France
CATEGORIES:Agenda
ATTACH;FMTTYPE=image/gif:https://ana-isoux.fr/wp-content/uploads/2024/11/b75c81_4ad5a9fd9d0f45fd9ee942f7dea9336amv2.gif
END:VEVENT
BEGIN:VEVENT
DTSTART;VALUE=DATE:20240709
DTEND;VALUE=DATE:20240715
DTSTAMP:20260426T045216
CREATED:20241120T160818Z
LAST-MODIFIED:20241120T160818Z
UID:299-1720483200-1721001599@ana-isoux.fr
SUMMARY:Les femmes savantes au festival Off d'Avignon
DESCRIPTION:Après La Princesse d’Élide\, Le Mariage forcé et Le Malade imaginaire\, Comédiens & Compagnie et Molière sont de nouveau réunis avec Les Femmes savantes. Cette comédie drôlissime s’en prend aux sots\, aux pédants et aux hypocrites. Ce superbe texte en alexandrin s’amuse à dévoiler les sottes lourdeurs d’une société patriarcale contre la naïveté de suffragettes intégristes\, la lutte pour le pouvoir… à l’intérieur du cadre familial\, l’ennui profond des salons mondains. Une satire incisive de ceux qui savent ou plutôt qui croient savoir et qui cherchent à imposer leur vision du monde. Toute ressemblance avec notre actualité ne peut être qu’accidentelle…Encore une fois cette comédie est emblématique de notre savoir-faire\, à savoir : présence gestuelle\, improvisations raisonnablement dosées\, musique et chants\, danses et pantomimes avec un respect du texte (le travail sur les alexandrins cherche à trouver la fluidité suffisante pour faire passer le vers avec sa force intrinsèque sans en entraver la justesse\, la vérité. Ce travail esquissé dans La Princesse d’Élide dont le premier acte et le début du deuxième étaient en vers\, trouve ici son aboutissement) qui n’entrave pas la gaieté communicative de la comédie. Un spectacle pour tous\, un spectacle populaire dans le sens noble du terme\, accessible\, ne rimant pas avec pauvreté ou vulgarité mais nous l’espérons\, avec richesse\, pour ne pas dire en l’occurrence\, préciosité et humanité. \nL’ArgumentHenriette qui aime Clitandre se voit contrainte par sa mère\, Philaminte\, d’épouser Trissotin\, un médiocre poète à la mode qui\, tout comme Tartuffe\, essaie de s’introduire dans la maison pour s’enrichir. Le père\, Chrysale\, heureusement accompagné de son frère\, Ariste\, va essayer d’empêcher ce mariage en affrontant les foudres de sa femme\, Philaminte\, de sa soeur Bélise et de son autre fille\, Armande\, trois femmes savantes qui essaient de régenter le monde… de leur maisonnée.Les Femmes savantes veut offrir un moment de spectacle complet : cruel\, tendre\, comique\, musical\, un délicieux projet pour Comédiens & Compagnie qui expérimente depuis 15 ans une certaine idée de la commedia dell’arte\, faite de bouts de ficelles et d’imagination.
URL:https://ana-isoux.fr/event/les-femmes-savantes-avignon-2/
LOCATION:Espace Alya\, 31bis Rue Guillaume Puy\, Avignon\, 84000\, France
CATEGORIES:Agenda
ATTACH;FMTTYPE=image/gif:https://ana-isoux.fr/wp-content/uploads/2024/11/b75c81_4ad5a9fd9d0f45fd9ee942f7dea9336amv2.gif
END:VEVENT
BEGIN:VEVENT
DTSTART;VALUE=DATE:20240703
DTEND;VALUE=DATE:20240708
DTSTAMP:20260426T045216
CREATED:20241120T155059Z
LAST-MODIFIED:20241120T160054Z
UID:295-1719964800-1720396799@ana-isoux.fr
SUMMARY:Les femmes savantes au festival Off d'Avignon
DESCRIPTION:Après La Princesse d’Élide\, Le Mariage forcé et Le Malade imaginaire\, Comédiens & Compagnie et Molière sont de nouveau réunis avec Les Femmes savantes. Cette comédie drôlissime s’en prend aux sots\, aux pédants et aux hypocrites. Ce superbe texte en alexandrin s’amuse à dévoiler les sottes lourdeurs d’une société patriarcale contre la naïveté de suffragettes intégristes\, la lutte pour le pouvoir… à l’intérieur du cadre familial\, l’ennui profond des salons mondains. Une satire incisive de ceux qui savent ou plutôt qui croient savoir et qui cherchent à imposer leur vision du monde. Toute ressemblance avec notre actualité ne peut être qu’accidentelle…Encore une fois cette comédie est emblématique de notre savoir-faire\, à savoir : présence gestuelle\, improvisations raisonnablement dosées\, musique et chants\, danses et pantomimes avec un respect du texte (le travail sur les alexandrins cherche à trouver la fluidité suffisante pour faire passer le vers avec sa force intrinsèque sans en entraver la justesse\, la vérité. Ce travail esquissé dans La Princesse d’Élide dont le premier acte et le début du deuxième étaient en vers\, trouve ici son aboutissement) qui n’entrave pas la gaieté communicative de la comédie. Un spectacle pour tous\, un spectacle populaire dans le sens noble du terme\, accessible\, ne rimant pas avec pauvreté ou vulgarité mais nous l’espérons\, avec richesse\, pour ne pas dire en l’occurrence\, préciosité et humanité. \nL’ArgumentHenriette qui aime Clitandre se voit contrainte par sa mère\, Philaminte\, d’épouser Trissotin\, un médiocre poète à la mode qui\, tout comme Tartuffe\, essaie de s’introduire dans la maison pour s’enrichir. Le père\, Chrysale\, heureusement accompagné de son frère\, Ariste\, va essayer d’empêcher ce mariage en affrontant les foudres de sa femme\, Philaminte\, de sa soeur Bélise et de son autre fille\, Armande\, trois femmes savantes qui essaient de régenter le monde… de leur maisonnée.Les Femmes savantes veut offrir un moment de spectacle complet : cruel\, tendre\, comique\, musical\, un délicieux projet pour Comédiens & Compagnie qui expérimente depuis 15 ans une certaine idée de la commedia dell’arte\, faite de bouts de ficelles et d’imagination.
URL:https://ana-isoux.fr/event/les-femmes-savantes-avignon-1/
LOCATION:Espace Alya\, 31bis Rue Guillaume Puy\, Avignon\, 84000\, France
CATEGORIES:Agenda
ATTACH;FMTTYPE=image/gif:https://ana-isoux.fr/wp-content/uploads/2024/11/b75c81_4ad5a9fd9d0f45fd9ee942f7dea9336amv2.gif
END:VEVENT
BEGIN:VEVENT
DTSTART;VALUE=DATE:20240530
DTEND;VALUE=DATE:20240531
DTSTAMP:20260426T045216
CREATED:20241120T144352Z
LAST-MODIFIED:20241120T155617Z
UID:292-1717027200-1717113599@ana-isoux.fr
SUMMARY:Concert avec l'ensemble vocal la Chapelle du Hainaut
DESCRIPTION:
URL:https://ana-isoux.fr/event/concert-souchez/
LOCATION:Eglise de Souchez\, 7 Rue Raoul Briquet\, Souchez\, 62153\, France
END:VEVENT
BEGIN:VEVENT
DTSTART;TZID=Europe/Paris:20240516T210000
DTEND;TZID=Europe/Paris:20240516T230000
DTSTAMP:20260426T045216
CREATED:20241120T143153Z
LAST-MODIFIED:20241120T143525Z
UID:286-1715893200-1715900400@ana-isoux.fr
SUMMARY:La vie est Kurt
DESCRIPTION:A. Isoux et B. Ravalard campent avec rage et humour la galerie bigarrée des personnages de Kurt Weill et Bertolt Brecht. Spectacle trilingue\, théâtral et musical\, au carrefour du monde lyrique\, du jazz et de la chanson. Nombreux extraits de l’Opéra de quat’sous\, mais aussi quelques perles rares!
URL:https://ana-isoux.fr/event/la-vie-est-kurt-2/
LOCATION:Théâtre de l’Essaïon\, 6 Rue Pierre au Lard\, Paris\, 75004\, France
CATEGORIES:Agenda
ATTACH;FMTTYPE=image/jpeg:https://ana-isoux.fr/wp-content/uploads/2024/11/la-vie-est-Kurtaff-web.jpg
END:VEVENT
BEGIN:VEVENT
DTSTART;VALUE=DATE:20240514
DTEND;VALUE=DATE:20240515
DTSTAMP:20260426T045216
CREATED:20241120T144027Z
LAST-MODIFIED:20241120T144108Z
UID:289-1715644800-1715731199@ana-isoux.fr
SUMMARY:Concert avec l'ensemble vocal la Chapelle du Hainaut
DESCRIPTION:
URL:https://ana-isoux.fr/event/concert-laon/
LOCATION:Eglise St Martin\, Pl. Soeur Marie Catherine\, Laon\, 02000\, France
CATEGORIES:Agenda
END:VEVENT
BEGIN:VEVENT
DTSTART;TZID=Europe/Paris:20240509T210000
DTEND;TZID=Europe/Paris:20240509T230000
DTSTAMP:20260426T045216
CREATED:20241120T142729Z
LAST-MODIFIED:20241219T205249Z
UID:283-1715288400-1715295600@ana-isoux.fr
SUMMARY:La vie est Kurt
DESCRIPTION:A. Isoux et B. Ravalard campent avec rage et humour la galerie bigarrée des personnages de Kurt Weill et Bertolt Brecht. Spectacle trilingue\, théâtral et musical\, au carrefour du monde lyrique\, du jazz et de la chanson. Nombreux extraits de l’Opéra de quat’sous\, mais aussi quelques perles rares!
URL:https://ana-isoux.fr/event/la-vie-est-kurt-essaion-9-mai/
LOCATION:Théâtre de l’Essaïon\, 6 Rue Pierre au Lard\, Paris\, 75004\, France
CATEGORIES:Agenda
ATTACH;FMTTYPE=image/jpeg:https://ana-isoux.fr/wp-content/uploads/2024/11/la-vie-est-Kurtaff-web.jpg
END:VEVENT
BEGIN:VEVENT
DTSTART;TZID=Europe/Paris:20240502T210000
DTEND;TZID=Europe/Paris:20240502T230000
DTSTAMP:20260426T045216
CREATED:20241120T142349Z
LAST-MODIFIED:20241120T142349Z
UID:281-1714683600-1714690800@ana-isoux.fr
SUMMARY:La vie est Kurt
DESCRIPTION:A. Isoux et B. Ravalard campent avec rage et humour la galerie bigarrée des personnages de Kurt Weill et Bertolt Brecht. Spectacle trilingue\, théâtral et musical\, au carrefour du monde lyrique\, du jazz et de la chanson. Nombreux extraits de l’Opéra de quat’sous\, mais aussi quelques perles rares!
URL:https://ana-isoux.fr/event/la-vie-est-kurt/
LOCATION:Théâtre de l’Essaïon\, 6 Rue Pierre au Lard\, Paris\, 75004\, France
CATEGORIES:Agenda
ATTACH;FMTTYPE=image/jpeg:https://ana-isoux.fr/wp-content/uploads/2024/11/la-vie-est-Kurtaff-web.jpg
END:VEVENT
BEGIN:VEVENT
DTSTART;TZID=Europe/Paris:20240425T210000
DTEND;TZID=Europe/Paris:20240425T230000
DTSTAMP:20260426T045216
CREATED:20241120T141924Z
LAST-MODIFIED:20241120T142208Z
UID:279-1714078800-1714086000@ana-isoux.fr
SUMMARY:La vie est Kurt
DESCRIPTION:A. Isoux et B. Ravalard campent avec rage et humour la galerie bigarrée des personnages de Kurt Weill et Bertolt Brecht. Spectacle trilingue\, théâtral et musical\, au carrefour du monde lyrique\, du jazz et de la chanson. Nombreux extraits de l’Opéra de quat’sous\, mais aussi quelques perles rares!
URL:https://ana-isoux.fr/event/la-vie-est-kurt-essaion-25-avril/
LOCATION:Théâtre de l’Essaïon\, 6 Rue Pierre au Lard\, Paris\, 75004\, France
CATEGORIES:Agenda
ATTACH;FMTTYPE=image/jpeg:https://ana-isoux.fr/wp-content/uploads/2024/11/la-vie-est-Kurtaff-web.jpg
END:VEVENT
BEGIN:VEVENT
DTSTART;TZID=Europe/Paris:20240418T210000
DTEND;TZID=Europe/Paris:20240418T233000
DTSTAMP:20260426T045216
CREATED:20241120T134403Z
LAST-MODIFIED:20241120T135635Z
UID:269-1713474000-1713483000@ana-isoux.fr
SUMMARY:La vie est Kurt
DESCRIPTION:A. Isoux et B. Ravalard campent avec rage et humour la galerie bigarrée des personnages de Kurt Weill et Bertolt Brecht. Spectacle trilingue\, théâtral et musical\, au carrefour du monde lyrique\, du jazz et de la chanson. Nombreux extraits de l’Opéra de quat’sous\, mais aussi quelques perles rares!
URL:https://ana-isoux.fr/event/la-vie-est-kurt-essaion-18-avril/
LOCATION:Théâtre de l’Essaïon\, 6 Rue Pierre au Lard\, Paris\, 75004\, France
CATEGORIES:Agenda
ATTACH;FMTTYPE=image/jpeg:https://ana-isoux.fr/wp-content/uploads/2024/11/la-vie-est-Kurtaff-web.jpg
END:VEVENT
BEGIN:VEVENT
DTSTART;VALUE=DATE:20240412
DTEND;VALUE=DATE:20240413
DTSTAMP:20260426T045216
CREATED:20241120T133723Z
LAST-MODIFIED:20241120T143647Z
UID:266-1712880000-1712966399@ana-isoux.fr
SUMMARY:Concert avec l'ensemble vocal la Chapelle du Hainaut
DESCRIPTION:
URL:https://ana-isoux.fr/event/concert-valenciennes/
LOCATION:Auditorium St Nicolas\, 1 Rue Emile Durieux\, Valenciennes\, 59300\, France
CATEGORIES:Agenda
END:VEVENT
BEGIN:VEVENT
DTSTART;TZID=Europe/Paris:20240404T210000
DTEND;TZID=Europe/Paris:20240404T230000
DTSTAMP:20260426T045216
CREATED:20241120T132437Z
LAST-MODIFIED:20241120T135935Z
UID:253-1712264400-1712271600@ana-isoux.fr
SUMMARY:La vie est Kurt
DESCRIPTION:A. Isoux et B. Ravalard campent avec rage et humour la galerie bigarrée des personnages de Kurt Weill et Bertolt Brecht. Spectacle trilingue\, théâtral et musical\, au carrefour du monde lyrique\, du jazz et de la chanson. Nombreux extraits de l’Opéra de quat’sous\, mais aussi quelques perles rares!
URL:https://ana-isoux.fr/event/la-vie-est-kurt-essaion-mars/
LOCATION:Théâtre de l’Essaïon\, 6 Rue Pierre au Lard\, Paris\, 75004\, France
CATEGORIES:Agenda
ATTACH;FMTTYPE=image/jpeg:https://ana-isoux.fr/wp-content/uploads/2024/11/la-vie-est-Kurtaff-web.jpg
END:VEVENT
BEGIN:VEVENT
DTSTART;TZID=Europe/Paris:20240328T210000
DTEND;TZID=Europe/Paris:20240328T230000
DTSTAMP:20260426T045216
CREATED:20241120T133002Z
LAST-MODIFIED:20241120T133226Z
UID:260-1711659600-1711666800@ana-isoux.fr
SUMMARY:La vie est Kurt
DESCRIPTION:A. Isoux et B. Ravalard campent avec rage et humour la galerie bigarrée des personnages de Kurt Weill et Bertolt Brecht. Spectacle trilingue\, théâtral et musical\, au carrefour du monde lyrique\, du jazz et de la chanson. Nombreux extraits de l’Opéra de quat’sous\, mais aussi quelques perles rares!
URL:https://ana-isoux.fr/event/la-vie-est-kurt-essaion-avril/
LOCATION:Théâtre de l’Essaïon\, 6 Rue Pierre au Lard\, Paris\, 75004\, France
ATTACH;FMTTYPE=image/jpeg:https://ana-isoux.fr/wp-content/uploads/2024/11/la-vie-est-Kurtaff-web.jpg
END:VEVENT
END:VCALENDAR